BEGIN:VCALENDAR
VERSION:2.0
PRODID:-//IBWC - ECPv4.6.2//NONSGML v1.0//EN
CALSCALE:GREGORIAN
METHOD:PUBLISH
X-WR-CALNAME:IBWC
X-ORIGINAL-URL:http://ibwc.org
X-WR-CALDESC:Events for IBWC
BEGIN:VEVENT
DTSTART;TZID=UTC-5:20200310T120000
DTEND;TZID=UTC-5:20200310T140000
DTSTAMP:20260425T110052
CREATED:20191018T211048Z
LAST-MODIFIED:20200308T193921Z
UID:20279-1583841600-1583848800@ibwc.org
SUMMARY:The Path to Productivity-CANCELLED
DESCRIPTION:Papers piling high\, oh my! \nTackling paper piles and computer declutter can be a daunting project when you go it alone. Without systems and a place for everything\, you are letting your potential slip away. Stop looking and start doing by taking the steps necessary to get your home office space working for you. \nLaura Savino aka Dr. DeClutter from Organized Productivity\, is a professional organizer and helps businesses and people to get a hold of their disorganized ways and teaches ways to overcome the obstacles that may be holding them back in achieving  big business goals! \n$10/members\, $25 non-members.  Lunch included. Register and pay in advance. \n  \n\n\n\nFee\n\n\nMember $10.00 USDNon-member $25.00 USD\n\n\n\n  \n
URL:http://ibwc.org/event/masterminding-for-2020-the-start-of-a-new-decade/
LOCATION:The Arbors 1740 Express Dr. South\, Hauppauge\, NY\, 11788\, United States
CATEGORIES:Monthly Lunch meetings
ATTACH;FMTTYPE=image/jpeg:http://ibwc.org/wp-content/uploads/2018/01/get_organized.jpg
END:VEVENT
END:VCALENDAR