BEGIN:VCALENDAR
VERSION:2.0
PRODID:-//IBWC - ECPv4.6.2//NONSGML v1.0//EN
CALSCALE:GREGORIAN
METHOD:PUBLISH
X-WR-CALNAME:IBWC
X-ORIGINAL-URL:http://ibwc.org
X-WR-CALDESC:Events for IBWC
BEGIN:VEVENT
DTSTART;TZID=UTC-5:20191210T160000
DTEND;TZID=UTC-5:20191210T180000
DTSTAMP:20260425T155017
CREATED:20191110T014338Z
LAST-MODIFIED:20191210T191119Z
UID:20363-1575993600-1576000800@ibwc.org
SUMMARY:Holiday Happy Hour
DESCRIPTION:Join us for a Holiday Party twist…Holiday Happy Hour! \nWe’ll meet at an Italian American Retro bar area with seating for casual conversation and connections plus we can eat\, drink\, and be merry too! \nJust $15 will get you bar bites and one drink. Whether it’s a soft drink\, wine or mixed drink is up to you!  Stay later if you wish and order dinner. \nRegistration is closed!   \n
URL:http://ibwc.org/event/holiday-happy-hour/
LOCATION:1058 Broadhollow Rd.\, Farmingdale\, NY\, 11735\, United States
ATTACH;FMTTYPE=image/jpeg:http://ibwc.org/wp-content/uploads/2019/11/Screenshot_20191109-194020_Chrome.jpg
END:VEVENT
END:VCALENDAR