BEGIN:VCALENDAR
VERSION:2.0
PRODID:-//IBWC - ECPv4.6.2//NONSGML v1.0//EN
CALSCALE:GREGORIAN
METHOD:PUBLISH
X-WR-CALNAME:IBWC
X-ORIGINAL-URL:http://ibwc.org
X-WR-CALDESC:Events for IBWC
BEGIN:VEVENT
DTSTART;TZID=UTC-5:20190821T120000
DTEND;TZID=UTC-5:20190821T140000
DTSTAMP:20260425T220819
CREATED:20190808T170127Z
LAST-MODIFIED:20190808T170127Z
UID:20116-1566388800-1566396000@ibwc.org
SUMMARY:Summer Garden Party
DESCRIPTION:The weather is hot\, hot\, hot and we’re celebrating with a summer networking soiree. \nWednesday\, August 21\, 2019\n12pm-2pm in Dix Hills \nBring a favorite dish to share! \nRSVP is mandatory. Email your acceptance only to sueglenn1@gmail.com. \nMake some new friends\, mingle with old ones\, try some signature dishes\, relax and enjoy each other’s company. We’ll gather outside at the home of one of our member’s in Dix Hills. Address will be given when you RSVP yes. When responding\, please let us know what dish you’ll be sharing. Casual attire. Rain or shine. No attendance fee. \n
URL:http://ibwc.org/event/summer-garden-party/
CATEGORIES:Special Event
ATTACH;FMTTYPE=image/png:http://ibwc.org/wp-content/uploads/2019/08/unnamed.png
END:VEVENT
END:VCALENDAR